BEGIN:VCALENDAR
VERSION:2.0
PRODID:-//experimenters.ch - ECPv6.15.20//NONSGML v1.0//EN
CALSCALE:GREGORIAN
METHOD:PUBLISH
X-ORIGINAL-URL:https://www.experimenters.ch
X-WR-CALDESC:Veranstaltungen für experimenters.ch
REFRESH-INTERVAL;VALUE=DURATION:PT1H
X-Robots-Tag:noindex
X-PUBLISHED-TTL:PT1H
BEGIN:VTIMEZONE
TZID:Europe/Zurich
BEGIN:DAYLIGHT
TZOFFSETFROM:+0100
TZOFFSETTO:+0200
TZNAME:CEST
DTSTART:20230326T010000
END:DAYLIGHT
BEGIN:STANDARD
TZOFFSETFROM:+0200
TZOFFSETTO:+0100
TZNAME:CET
DTSTART:20231029T010000
END:STANDARD
BEGIN:DAYLIGHT
TZOFFSETFROM:+0100
TZOFFSETTO:+0200
TZNAME:CEST
DTSTART:20240331T010000
END:DAYLIGHT
BEGIN:STANDARD
TZOFFSETFROM:+0200
TZOFFSETTO:+0100
TZNAME:CET
DTSTART:20241027T010000
END:STANDARD
BEGIN:DAYLIGHT
TZOFFSETFROM:+0100
TZOFFSETTO:+0200
TZNAME:CEST
DTSTART:20250330T010000
END:DAYLIGHT
BEGIN:STANDARD
TZOFFSETFROM:+0200
TZOFFSETTO:+0100
TZNAME:CET
DTSTART:20251026T010000
END:STANDARD
END:VTIMEZONE
BEGIN:VEVENT
DTSTART;TZID=Europe/Zurich:20240330T110000
DTEND;TZID=Europe/Zurich:20240330T143000
DTSTAMP:20260422T180332
CREATED:20240222T111206Z
LAST-MODIFIED:20240222T120234Z
UID:10000007-1711796400-1711809000@www.experimenters.ch
SUMMARY:Zuse Relais-Computer
DESCRIPTION:Vorführung im „Enter Technikwelt Solothurn“: Z3 – Konrad Zuse Relais-Computer\n30. März 1100-1130 und 1400-1430
URL:https://www.experimenters.ch/event/zuse-relais-computer/
LOCATION:Enter Technikwelt Derendingen SO\, Gewerbestrasse 4\, Derendingen\, Solothurn\, 4552\, Schweiz
CATEGORIES:Präsenz
END:VEVENT
END:VCALENDAR