BEGIN:VCALENDAR
VERSION:2.0
PRODID:-//experimenters.ch - ECPv6.15.20//NONSGML v1.0//EN
CALSCALE:GREGORIAN
METHOD:PUBLISH
X-ORIGINAL-URL:https://www.experimenters.ch
X-WR-CALDESC:Veranstaltungen für experimenters.ch
REFRESH-INTERVAL;VALUE=DURATION:PT1H
X-Robots-Tag:noindex
X-PUBLISHED-TTL:PT1H
BEGIN:VTIMEZONE
TZID:Europe/Zurich
BEGIN:DAYLIGHT
TZOFFSETFROM:+0100
TZOFFSETTO:+0200
TZNAME:CEST
DTSTART:20230326T010000
END:DAYLIGHT
BEGIN:STANDARD
TZOFFSETFROM:+0200
TZOFFSETTO:+0100
TZNAME:CET
DTSTART:20231029T010000
END:STANDARD
BEGIN:DAYLIGHT
TZOFFSETFROM:+0100
TZOFFSETTO:+0200
TZNAME:CEST
DTSTART:20240331T010000
END:DAYLIGHT
BEGIN:STANDARD
TZOFFSETFROM:+0200
TZOFFSETTO:+0100
TZNAME:CET
DTSTART:20241027T010000
END:STANDARD
BEGIN:DAYLIGHT
TZOFFSETFROM:+0100
TZOFFSETTO:+0200
TZNAME:CEST
DTSTART:20250330T010000
END:DAYLIGHT
BEGIN:STANDARD
TZOFFSETFROM:+0200
TZOFFSETTO:+0100
TZNAME:CET
DTSTART:20251026T010000
END:STANDARD
END:VTIMEZONE
BEGIN:VEVENT
DTSTART;TZID=Europe/Zurich:20240228T180000
DTEND;TZID=Europe/Zurich:20240228T220000
DTSTAMP:20260422T174831
CREATED:20240222T145223Z
LAST-MODIFIED:20240222T145421Z
UID:10000009-1709143200-1709157600@www.experimenters.ch
SUMMARY:Zukunft des Codings
DESCRIPTION:Die Zukunft des Codings? Jetbrains AI Assistant und GitHub Copilot im Duell.\nVeranstaltung durch software@work. \nKünstliche Intelligenz in der Software-Entwicklung ist derzeit ein heiß diskutiertes Thema. Neben dem bereits länger verfügbaren GitHub Copilot tritt nun auch der Jetbrains AI Assistant für IntelliJ\, Webstorm\, ReSharper etc. auf den Plan. Dabei zeichnet sich ein spannender Wettbewerb ab.
URL:https://www.experimenters.ch/event/zukunft-des-codings/
LOCATION:online
CATEGORIES:Online,Webinar
END:VEVENT
END:VCALENDAR