BEGIN:VCALENDAR
VERSION:2.0
PRODID:-//experimenters.ch - ECPv6.15.20//NONSGML v1.0//EN
CALSCALE:GREGORIAN
METHOD:PUBLISH
X-WR-CALNAME:experimenters.ch
X-ORIGINAL-URL:https://www.experimenters.ch
X-WR-CALDESC:Veranstaltungen für experimenters.ch
REFRESH-INTERVAL;VALUE=DURATION:PT1H
X-Robots-Tag:noindex
X-PUBLISHED-TTL:PT1H
BEGIN:VTIMEZONE
TZID:Europe/Zurich
BEGIN:DAYLIGHT
TZOFFSETFROM:+0100
TZOFFSETTO:+0200
TZNAME:CEST
DTSTART:20230326T010000
END:DAYLIGHT
BEGIN:STANDARD
TZOFFSETFROM:+0200
TZOFFSETTO:+0100
TZNAME:CET
DTSTART:20231029T010000
END:STANDARD
BEGIN:DAYLIGHT
TZOFFSETFROM:+0100
TZOFFSETTO:+0200
TZNAME:CEST
DTSTART:20240331T010000
END:DAYLIGHT
BEGIN:STANDARD
TZOFFSETFROM:+0200
TZOFFSETTO:+0100
TZNAME:CET
DTSTART:20241027T010000
END:STANDARD
BEGIN:DAYLIGHT
TZOFFSETFROM:+0100
TZOFFSETTO:+0200
TZNAME:CEST
DTSTART:20250330T010000
END:DAYLIGHT
BEGIN:STANDARD
TZOFFSETFROM:+0200
TZOFFSETTO:+0100
TZNAME:CET
DTSTART:20251026T010000
END:STANDARD
END:VTIMEZONE
BEGIN:VEVENT
DTSTART;TZID=Europe/Zurich:20240226T203000
DTEND;TZID=Europe/Zurich:20240226T220000
DTSTAMP:20260422T174750
CREATED:20240222T144134Z
LAST-MODIFIED:20240222T144134Z
UID:10000008-1708979400-1708984800@www.experimenters.ch
SUMMARY:Winlink
DESCRIPTION:DARC-HamGroup-Meeting „WinLink“.\nInfos und Training zum Winlink-Netz und dem Client-Programm Winlink-Express.
URL:https://www.experimenters.ch/event/winlink/
LOCATION:online
CATEGORIES:Online,Stammtisch/Treff
END:VEVENT
END:VCALENDAR